BEGIN:VCALENDAR
VERSION:2.0
PRODID:Events Booking
BEGIN:VEVENT
UID:69ed4b1a19b5f
SUMMARY:Online Zoom Activity: Get Active Monday\, suitable for All Ages 
DESCRIPTION:
DTSTART:20200921T160000Z
DTEND:20200921T170000Z
DTSTAMP:20260426T001538Z
ORGANIZER;CN=ILEAP Charity:MAILTO:sparkle@ileap.co.uk
END:VEVENT
END:VCALENDAR