BEGIN:VCALENDAR
VERSION:2.0
PRODID:Events Booking
BEGIN:VEVENT
UID:69eced3c59568
SUMMARY:Online Zoom Activity: Get Active Monday\, suitable for All Ages
DESCRIPTION:
DTSTART:20200622T140000Z
DTEND:20200622T150000Z
DTSTAMP:20260425T173508Z
ORGANIZER;CN=ILEAP Charity:MAILTO:sparkle@ileap.co.uk
END:VEVENT
END:VCALENDAR