BEGIN:VCALENDAR
VERSION:2.0
PRODID:Events Booking
BEGIN:VEVENT
UID:69ed4af82df69
SUMMARY:Online Zoom Activity: Get Active Monday\, suitable for All Ages 
DESCRIPTION:
DTSTART:20200914T160000Z
DTEND:20200914T170000Z
DTSTAMP:20260426T001504Z
ORGANIZER;CN=ILEAP Charity:MAILTO:sparkle@ileap.co.uk
END:VEVENT
END:VCALENDAR