BEGIN:VCALENDAR
VERSION:2.0
PRODID:Events Booking
BEGIN:VEVENT
UID:69ecfeb6ba1a3
SUMMARY:Online Zoom Activity: Get Active Monday\, suitable for All Ages
DESCRIPTION:
DTSTART:20200706T140000Z
DTEND:20200706T150000Z
DTSTAMP:20260425T184942Z
ORGANIZER;CN=ILEAP Charity:MAILTO:sparkle@ileap.co.uk
END:VEVENT
END:VCALENDAR