BEGIN:VCALENDAR
VERSION:2.0
PRODID:Events Booking
BEGIN:VEVENT
UID:69ed14508c613
SUMMARY:Online Zoom Activity: Get Active Monday\, suitable for All Ages 
DESCRIPTION:
DTSTART:20200803T130000Z
DTEND:20200803T140000Z
DTSTAMP:20260425T202152Z
ORGANIZER;CN=ILEAP Charity:MAILTO:sparkle@ileap.co.uk
END:VEVENT
END:VCALENDAR