BEGIN:VCALENDAR
VERSION:2.0
PRODID:Events Booking
BEGIN:VEVENT
UID:69ecedbfb9195
SUMMARY:Online Zoom Activity: Get Active Morning Fitness\, suitable for All
  Ages with Fitness Staff from Empowr-U
DESCRIPTION:
DTSTART:20200615T090000Z
DTEND:20200615T100000Z
DTSTAMP:20260425T173719Z
ORGANIZER;CN=ILEAP Charity:MAILTO:sparkle@ileap.co.uk
END:VEVENT
END:VCALENDAR