BEGIN:VCALENDAR
VERSION:2.0
PRODID:Events Booking
BEGIN:VEVENT
UID:69ecdf4de5c8b
SUMMARY:Online Zoom Activity: Loopy Lessons Thursday\, All Ages 
DESCRIPTION:
DTSTART:20200514T133000Z
DTEND:20200514T143000Z
DTSTAMP:20260425T163541Z
ORGANIZER;CN=ILEAP Charity:MAILTO:sparkle@ileap.co.uk
END:VEVENT
END:VCALENDAR