BEGIN:VCALENDAR
VERSION:2.0
PRODID:Events Booking
BEGIN:VEVENT
UID:69ecdf2b08bfc
SUMMARY:Online Zoom Activity: Loopy Lessons Thursday\, All Ages 
DESCRIPTION:
DTSTART:20200521T133000Z
DTEND:20200521T143000Z
DTSTAMP:20260425T163507Z
ORGANIZER;CN=ILEAP Charity:MAILTO:sparkle@ileap.co.uk
END:VEVENT
END:VCALENDAR