BEGIN:VCALENDAR
VERSION:2.0
PRODID:Events Booking
BEGIN:VEVENT
UID:69eced3b092c4
SUMMARY:Online Zoom Activity: Loopy Lessons Thursday\, All Ages 
DESCRIPTION:
DTSTART:20200528T133000Z
DTEND:20200528T143000Z
DTSTAMP:20260425T173507Z
ORGANIZER;CN=ILEAP Charity:MAILTO:sparkle@ileap.co.uk
END:VEVENT
END:VCALENDAR