BEGIN:VCALENDAR
VERSION:2.0
PRODID:Events Booking
BEGIN:VEVENT
UID:69ecc6d5870b6
SUMMARY:Online Zoom Activity: Loopy Lessons Thursday\, All Ages 
DESCRIPTION:
DTSTART:20200507T133000Z
DTEND:20200507T143000Z
DTSTAMP:20260425T145117Z
ORGANIZER;CN=ILEAP Charity:MAILTO:sparkle@ileap.co.uk
END:VEVENT
END:VCALENDAR