BEGIN:VCALENDAR
VERSION:2.0
PRODID:Events Booking
BEGIN:VEVENT
UID:69ed27395ab14
SUMMARY:Online Zoom Activity: Motivational Monday for All Ages
DESCRIPTION:
DTSTART:20200817T100000Z
DTEND:20200817T110000Z
DTSTAMP:20260425T214233Z
ORGANIZER;CN=ILEAP Charity:MAILTO:sparkle@ileap.co.uk
END:VEVENT
END:VCALENDAR