BEGIN:VCALENDAR
VERSION:2.0
PRODID:Events Booking
BEGIN:VEVENT
UID:69ecedab70141
SUMMARY:Online Zoom Activity: Motivational Monday for All Ages
DESCRIPTION:
DTSTART:20200622T100000Z
DTEND:20200622T110000Z
DTSTAMP:20260425T173659Z
ORGANIZER;CN=ILEAP Charity:MAILTO:sparkle@ileap.co.uk
END:VEVENT
END:VCALENDAR