BEGIN:VCALENDAR
VERSION:2.0
PRODID:Events Booking
BEGIN:VEVENT
UID:69ed37a0ec665
SUMMARY:Online Zoom Activity: Motivational Monday for All Ages
DESCRIPTION:
DTSTART:20200824T100000Z
DTEND:20200824T110000Z
DTSTAMP:20260425T225232Z
ORGANIZER;CN=ILEAP Charity:MAILTO:sparkle@ileap.co.uk
END:VEVENT
END:VCALENDAR