BEGIN:VCALENDAR
VERSION:2.0
PRODID:Events Booking
BEGIN:VEVENT
UID:69ed144f1c220
SUMMARY:Online Zoom Activity: Motivational Monday for All Ages
DESCRIPTION:
DTSTART:20200803T100000Z
DTEND:20200803T110000Z
DTSTAMP:20260425T202151Z
ORGANIZER;CN=ILEAP Charity:MAILTO:sparkle@ileap.co.uk
END:VEVENT
END:VCALENDAR