BEGIN:VCALENDAR
VERSION:2.0
PRODID:Events Booking
BEGIN:VEVENT
UID:69ecafb70c6fb
SUMMARY:Online Zoom Activity: Sing Together Wednesdays\, All Ages
DESCRIPTION:
DTSTART:20200415T140000Z
DTEND:20200415T150000Z
DTSTAMP:20260425T131239Z
ORGANIZER;CN=ILEAP Charity:MAILTO:sparkle@ileap.co.uk
END:VEVENT
END:VCALENDAR