BEGIN:VCALENDAR
VERSION:2.0
PRODID:Events Booking
BEGIN:VEVENT
UID:69ecc71497894
SUMMARY:Online Zoom Activity: Sing Together Wednesdays\, All Ages
DESCRIPTION:
DTSTART:20200429T140000Z
DTEND:20200429T150000Z
DTSTAMP:20260425T145220Z
ORGANIZER;CN=ILEAP Charity:MAILTO:sparkle@ileap.co.uk
END:VEVENT
END:VCALENDAR