BEGIN:VCALENDAR
VERSION:2.0
PRODID:Events Booking
BEGIN:VEVENT
UID:69ecff2acb8a7
SUMMARY:Online Zoom Activity: Sing Together Wednesdays\, All Ages
DESCRIPTION:
DTSTART:20200701T140000Z
DTEND:20200701T150000Z
DTSTAMP:20260425T185138Z
ORGANIZER;CN=ILEAP Charity:MAILTO:sparkle@ileap.co.uk
END:VEVENT
END:VCALENDAR