BEGIN:VCALENDAR
VERSION:2.0
PRODID:Events Booking
BEGIN:VEVENT
UID:69ecedc1495b0
SUMMARY:Online Zoom Activity: Sing Together Wednesdays\, All Ages
DESCRIPTION:
DTSTART:20200610T140000Z
DTEND:20200610T150000Z
DTSTAMP:20260425T173721Z
ORGANIZER;CN=ILEAP Charity:MAILTO:sparkle@ileap.co.uk
END:VEVENT
END:VCALENDAR