BEGIN:VCALENDAR
VERSION:2.0
PRODID:Events Booking
BEGIN:VEVENT
UID:69ed4b18c42a7
SUMMARY:Online Zoom Activity: Sing Together Wednesdays\, All Ages 
DESCRIPTION:
DTSTART:20200916T163000Z
DTEND:20200916T173000Z
DTSTAMP:20260426T001536Z
ORGANIZER;CN=ILEAP Charity:MAILTO:sparkle@ileap.co.uk
END:VEVENT
END:VCALENDAR