BEGIN:VCALENDAR
VERSION:2.0
PRODID:Events Booking
BEGIN:VEVENT
UID:69ed4b78cbde5
SUMMARY:Online Zoom Activity: Sing Together Wednesdays\, All Ages 
DESCRIPTION:
DTSTART:20200923T163000Z
DTEND:20200923T173000Z
DTSTAMP:20260426T001712Z
ORGANIZER;CN=ILEAP Charity:MAILTO:sparkle@ileap.co.uk
END:VEVENT
END:VCALENDAR