BEGIN:VCALENDAR
VERSION:2.0
PRODID:Events Booking
BEGIN:VEVENT
UID:69ed3a334c959
SUMMARY:Online Zoom Activity: Sing Together Wednesdays\, All Ages
DESCRIPTION:
DTSTART:20200826T140000Z
DTEND:20200826T150000Z
DTSTAMP:20260425T230331Z
ORGANIZER;CN=ILEAP Charity:MAILTO:sparkle@ileap.co.uk
END:VEVENT
END:VCALENDAR