BEGIN:VCALENDAR
VERSION:2.0
PRODID:Events Booking
BEGIN:VEVENT
UID:69ecaf3f3c256
SUMMARY:Online Zoom Activity: Stay Creative & Connected: Monday 10am -11am
DESCRIPTION:
DTSTART:20200413T090000Z
DTEND:20200413T100000Z
DTSTAMP:20260425T131039Z
ORGANIZER;CN=ILEAP Charity:MAILTO:sparkle@ileap.co.uk
END:VEVENT
END:VCALENDAR