BEGIN:VCALENDAR
VERSION:2.0
PRODID:Events Booking
BEGIN:VEVENT
UID:69ecc6d62d2e8
SUMMARY:Online Zoom Activity: Stay Creative & Connected: Monday 10am -11am
DESCRIPTION:
DTSTART:20200420T090000Z
DTEND:20200420T100000Z
DTSTAMP:20260425T145118Z
ORGANIZER;CN=ILEAP Charity:MAILTO:sparkle@ileap.co.uk
END:VEVENT
END:VCALENDAR