BEGIN:VCALENDAR
VERSION:2.0
PRODID:Events Booking
BEGIN:VEVENT
UID:69ecff2ab421e
SUMMARY:Online Zoom Activity: Stay Creative & Connected: Friday 1.00pm -2.0
 0pm with Rosie
DESCRIPTION:
DTSTART:20200710T120000Z
DTEND:20200710T130000Z
DTSTAMP:20260425T185138Z
ORGANIZER;CN=ILEAP Charity:MAILTO:sparkle@ileap.co.uk
END:VEVENT
END:VCALENDAR