BEGIN:VCALENDAR
VERSION:2.0
PRODID:Events Booking
BEGIN:VEVENT
UID:69ed14b945cbe
SUMMARY:Online Zoom Activity: Stay Creative & Connected: Friday 1.00pm -2.0
 0pm with Rosie
DESCRIPTION:
DTSTART:20200717T120000Z
DTEND:20200717T130000Z
DTSTAMP:20260425T202337Z
ORGANIZER;CN=ILEAP Charity:MAILTO:sparkle@ileap.co.uk
END:VEVENT
END:VCALENDAR