BEGIN:VCALENDAR
VERSION:2.0
PRODID:Events Booking
BEGIN:VEVENT
UID:69ed27080ee3b
SUMMARY:Online Zoom Activity: Stay Creative & Connected: Friday 1.30pm -2.3
 0pm: All Ages 
DESCRIPTION:
DTSTART:20200807T123000Z
DTEND:20200807T133000Z
DTSTAMP:20260425T214144Z
ORGANIZER;CN=ILEAP Charity:MAILTO:sparkle@ileap.co.uk
END:VEVENT
END:VCALENDAR