BEGIN:VCALENDAR
VERSION:2.0
PRODID:Events Booking
BEGIN:VEVENT
UID:69ecc7146d584
SUMMARY:Online Zoom Activity: Stay Creative & Connected: Friday 1.00pm -2.0
 0pm with Rosie
DESCRIPTION:
DTSTART:20200417T123000Z
DTEND:20200417T133000Z
DTSTAMP:20260425T145220Z
ORGANIZER;CN=ILEAP Charity:MAILTO:sparkle@ileap.co.uk
END:VEVENT
END:VCALENDAR