BEGIN:VCALENDAR
VERSION:2.0
PRODID:Events Booking
BEGIN:VEVENT
UID:69ecdb69cd0e1
SUMMARY:Online Zoom Activity: Stay Creative & Connected: Friday 1.00pm -2.0
 0pm with Rosie
DESCRIPTION:
DTSTART:20200522T120000Z
DTEND:20200522T130000Z
DTSTAMP:20260425T161905Z
ORGANIZER;CN=ILEAP Charity:MAILTO:sparkle@ileap.co.uk
END:VEVENT
END:VCALENDAR