BEGIN:VCALENDAR
VERSION:2.0
PRODID:Events Booking
BEGIN:VEVENT
UID:69ecc7150f244
SUMMARY:Online Zoom Activity: Stay Creative & Connected: Friday 1.00pm -2.0
 0pm with Rosie
DESCRIPTION:
DTSTART:20200424T123000Z
DTEND:20200424T133000Z
DTSTAMP:20260425T145221Z
ORGANIZER;CN=ILEAP Charity:MAILTO:sparkle@ileap.co.uk
END:VEVENT
END:VCALENDAR