BEGIN:VCALENDAR
VERSION:2.0
PRODID:Events Booking
BEGIN:VEVENT
UID:69ed147277a14
SUMMARY:Online Zoom Activity: Stay Creative & Connected: Friday 10.00am -11
 .00am with Lydia: All Ages
DESCRIPTION:
DTSTART:20200807T090000Z
DTEND:20200807T100000Z
DTSTAMP:20260425T202226Z
ORGANIZER;CN=ILEAP Charity:MAILTO:sparkle@ileap.co.uk
END:VEVENT
END:VCALENDAR