BEGIN:VCALENDAR
VERSION:2.0
PRODID:Events Booking
BEGIN:VEVENT
UID:69ecffa1c9319
SUMMARY:Online Zoom Activity: Stay Creative & Connected: Friday 10.30am -11
 .30am with Rosie
DESCRIPTION:
DTSTART:20200710T093000Z
DTEND:20200710T103000Z
DTSTAMP:20260425T185337Z
ORGANIZER;CN=ILEAP Charity:MAILTO:sparkle@ileap.co.uk
END:VEVENT
END:VCALENDAR