BEGIN:VCALENDAR
VERSION:2.0
PRODID:Events Booking
BEGIN:VEVENT
UID:69ecc761696ba
SUMMARY:Online Zoom Activity: Stay Creative & Connected: Friday 10.30am -11
 .30am with Rosie
DESCRIPTION:
DTSTART:20200424T090000Z
DTEND:20200424T100000Z
DTSTAMP:20260425T145337Z
ORGANIZER;CN=ILEAP Charity:MAILTO:sparkle@ileap.co.uk
END:VEVENT
END:VCALENDAR