BEGIN:VCALENDAR
VERSION:2.0
PRODID:Events Booking
BEGIN:VEVENT
UID:69ecaf3d2aee2
SUMMARY:Online Zoom Activity: Stay Creative & Connected: Friday 10.30am -11
 .30am with Rosie
DESCRIPTION:
DTSTART:20200410T093000Z
DTEND:20200410T103000Z
DTSTAMP:20260425T131037Z
ORGANIZER;CN=ILEAP Charity:MAILTO:sparkle@ileap.co.uk
END:VEVENT
END:VCALENDAR