BEGIN:VCALENDAR
VERSION:2.0
PRODID:Events Booking
BEGIN:VEVENT
UID:69ecc76634474
SUMMARY:Online Zoom Activity: Stay Creative & Connected: Friday 11.30am -12
 .30pm  
DESCRIPTION:
DTSTART:20200417T103000Z
DTEND:20200417T113000Z
DTSTAMP:20260425T145342Z
ORGANIZER;CN=ILEAP Charity:MAILTO:sparkle@ileap.co.uk
END:VEVENT
END:VCALENDAR