BEGIN:VCALENDAR
VERSION:2.0
PRODID:Events Booking
BEGIN:VEVENT
UID:69ecaf4f972b4
SUMMARY:Online Zoom Activity: Stay Creative & Connected: Friday 11.30am -12
 .30pm  
DESCRIPTION:
DTSTART:20200410T103000Z
DTEND:20200410T113000Z
DTSTAMP:20260425T131055Z
ORGANIZER;CN=ILEAP Charity:MAILTO:sparkle@ileap.co.uk
END:VEVENT
END:VCALENDAR