BEGIN:VCALENDAR
VERSION:2.0
PRODID:Events Booking
BEGIN:VEVENT
UID:69ecdb9f6ba26
SUMMARY:Online Zoom Activity: Stay Creative & Connected: Monday 1.00pm -2.0
 0pm with Rosie
DESCRIPTION:
DTSTART:20200511T120000Z
DTEND:20200511T130000Z
DTSTAMP:20260425T161959Z
ORGANIZER;CN=ILEAP Charity:MAILTO:sparkle@ileap.co.uk
END:VEVENT
END:VCALENDAR