BEGIN:VCALENDAR
VERSION:2.0
PRODID:Events Booking
BEGIN:VEVENT
UID:69ecc713aceb1
SUMMARY:Online Zoom Activity: Stay Creative & Connected: Monday 1.00pm -2.0
 0pm with Rosie
DESCRIPTION:
DTSTART:20200420T123000Z
DTEND:20200420T133000Z
DTSTAMP:20260425T145219Z
ORGANIZER;CN=ILEAP Charity:MAILTO:sparkle@ileap.co.uk
END:VEVENT
END:VCALENDAR