BEGIN:VCALENDAR
VERSION:2.0
PRODID:Events Booking
BEGIN:VEVENT
UID:69ecc7130411c
SUMMARY:Online Zoom Activity: Stay Creative & Connected: Monday 1.00pm -2.0
 0pm with Rosie
DESCRIPTION:
DTSTART:20200427T123000Z
DTEND:20200427T133000Z
DTSTAMP:20260425T145219Z
ORGANIZER;CN=ILEAP Charity:MAILTO:sparkle@ileap.co.uk
END:VEVENT
END:VCALENDAR