BEGIN:VCALENDAR
VERSION:2.0
PRODID:Events Booking
BEGIN:VEVENT
UID:69ed275dcdcff
SUMMARY:Online Zoom Activity: Stay Creative & Connected: Monday 1.30pm -2.3
 0pm with Rosie: All Ages
DESCRIPTION:
DTSTART:20200810T123000Z
DTEND:20200810T133000Z
DTSTAMP:20260425T214309Z
ORGANIZER;CN=ILEAP Charity:MAILTO:sparkle@ileap.co.uk
END:VEVENT
END:VCALENDAR