BEGIN:VCALENDAR
VERSION:2.0
PRODID:Events Booking
BEGIN:VEVENT
UID:69ed3a329cf0f
SUMMARY:Online Zoom Activity: Stay Creative & Connected: Monday 1.30pm -2.3
 0pm with Rosie: All Ages
DESCRIPTION:
DTSTART:20200824T123000Z
DTEND:20200824T133000Z
DTSTAMP:20260425T230330Z
ORGANIZER;CN=ILEAP Charity:MAILTO:sparkle@ileap.co.uk
END:VEVENT
END:VCALENDAR