BEGIN:VCALENDAR
VERSION:2.0
PRODID:Events Booking
BEGIN:VEVENT
UID:69ed279f50ae4
SUMMARY:Online Zoom Activity: Stay Creative & Connected: Monday 10.00am -11
 .00am with Paisley: All Ages
DESCRIPTION:
DTSTART:20200817T090000Z
DTEND:20200817T100000Z
DTSTAMP:20260425T214415Z
ORGANIZER;CN=ILEAP Charity:MAILTO:sparkle@ileap.co.uk
END:VEVENT
END:VCALENDAR