BEGIN:VCALENDAR
VERSION:2.0
PRODID:Events Booking
BEGIN:VEVENT
UID:69ed3b71f25a2
SUMMARY:Online Zoom Activity: Stay Creative & Connected: Monday 10.00am -11
 .00am with Paisley: All Ages
DESCRIPTION:
DTSTART:20200824T090000Z
DTEND:20200824T100000Z
DTSTAMP:20260425T230849Z
ORGANIZER;CN=ILEAP Charity:MAILTO:sparkle@ileap.co.uk
END:VEVENT
END:VCALENDAR