BEGIN:VCALENDAR
VERSION:2.0
PRODID:Events Booking
BEGIN:VEVENT
UID:69ed14bc7a77b
SUMMARY:Online Zoom Activity: Stay Creative & Connected: Monday 10.00am -11
 .00am with Paisley: All Ages
DESCRIPTION:
DTSTART:20200803T090000Z
DTEND:20200803T100000Z
DTSTAMP:20260425T202340Z
ORGANIZER;CN=ILEAP Charity:MAILTO:sparkle@ileap.co.uk
END:VEVENT
END:VCALENDAR