BEGIN:VCALENDAR
VERSION:2.0
PRODID:Events Booking
BEGIN:VEVENT
UID:69ed14aecf147
SUMMARY:Online Zoom Activity: Stay Creative & Connected: Monday 1.30pm -2.3
 0pm with Rosie: All Ages
DESCRIPTION:
DTSTART:20200803T123000Z
DTEND:20200803T133000Z
DTSTAMP:20260425T202326Z
ORGANIZER;CN=ILEAP Charity:MAILTO:sparkle@ileap.co.uk
END:VEVENT
END:VCALENDAR