BEGIN:VCALENDAR
VERSION:2.0
PRODID:Events Booking
BEGIN:VEVENT
UID:69ecb0047c9da
SUMMARY:Online Zoom Activity: Stay Creative & Connected: Monday 11.30am -12
 .30pm
DESCRIPTION:
DTSTART:20200413T103000Z
DTEND:20200413T113000Z
DTSTAMP:20260425T131356Z
ORGANIZER;CN=ILEAP Charity:MAILTO:sparkle@ileap.co.uk
END:VEVENT
END:VCALENDAR