BEGIN:VCALENDAR
VERSION:2.0
PRODID:Events Booking
BEGIN:VEVENT
UID:69ecffb1974c6
SUMMARY:Online Zoom Activity: Stay Creative & Connected: Thursday 1.00pm -2
 .00pm with Lydia or Paisley
DESCRIPTION:
DTSTART:20200709T120000Z
DTEND:20200709T130000Z
DTSTAMP:20260425T185353Z
ORGANIZER;CN=ILEAP Charity:MAILTO:sparkle@ileap.co.uk
END:VEVENT
END:VCALENDAR