BEGIN:VCALENDAR
VERSION:2.0
PRODID:Events Booking
BEGIN:VEVENT
UID:69ecb043a5da0
SUMMARY:Online Zoom Activity: Stay Creative & Connected: Thursday 1.00pm -2
 .00pm with Rosie\, Lydia or Paisley
DESCRIPTION:
DTSTART:20200409T120000Z
DTEND:20200409T130000Z
DTSTAMP:20260425T131459Z
ORGANIZER;CN=ILEAP Charity:MAILTO:sparkle@ileap.co.uk
END:VEVENT
END:VCALENDAR