BEGIN:VCALENDAR
VERSION:2.0
PRODID:Events Booking
BEGIN:VEVENT
UID:69ecafb253d0c
SUMMARY:Online Zoom Activity: Stay Creative & Connected: Thursday 1.00pm -2
 .00pm with Rosie\, Lydia or Paisley
DESCRIPTION:
DTSTART:20200416T123000Z
DTEND:20200416T133000Z
DTSTAMP:20260425T131234Z
ORGANIZER;CN=ILEAP Charity:MAILTO:sparkle@ileap.co.uk
END:VEVENT
END:VCALENDAR