BEGIN:VCALENDAR
VERSION:2.0
PRODID:Events Booking
BEGIN:VEVENT
UID:69eced3d59956
SUMMARY:Online Zoom Activity: Stay Creative & Connected: Thursday 1.00pm -2
 .00pm with Rosie\, Lydia or Paisley
DESCRIPTION:
DTSTART:20200528T120000Z
DTEND:20200528T130000Z
DTSTAMP:20260425T173509Z
ORGANIZER;CN=ILEAP Charity:MAILTO:sparkle@ileap.co.uk
END:VEVENT
END:VCALENDAR