BEGIN:VCALENDAR
VERSION:2.0
PRODID:Events Booking
BEGIN:VEVENT
UID:69ecc6f540dfb
SUMMARY:Online Zoom Activity: Stay Creative & Connected: Thursday 1.00pm -2
 .00pm with Rosie\, Lydia or Paisley
DESCRIPTION:
DTSTART:20200507T120000Z
DTEND:20200507T130000Z
DTSTAMP:20260425T145149Z
ORGANIZER;CN=ILEAP Charity:MAILTO:sparkle@ileap.co.uk
END:VEVENT
END:VCALENDAR